BEGIN:VCALENDAR
VERSION:2.0
PRODID:-//Danske Daginstitutioner - ECPv6.15.17.1//NONSGML v1.0//EN
CALSCALE:GREGORIAN
METHOD:PUBLISH
X-WR-CALNAME:Danske Daginstitutioner
X-ORIGINAL-URL:https://danskedaginstitutioner.dk
X-WR-CALDESC:Begivenheder for Danske Daginstitutioner
REFRESH-INTERVAL;VALUE=DURATION:PT1H
X-Robots-Tag:noindex
X-PUBLISHED-TTL:PT1H
BEGIN:VTIMEZONE
TZID:Europe/Copenhagen
BEGIN:DAYLIGHT
TZOFFSETFROM:+0100
TZOFFSETTO:+0200
TZNAME:CEST
DTSTART:20250330T010000
END:DAYLIGHT
BEGIN:STANDARD
TZOFFSETFROM:+0200
TZOFFSETTO:+0100
TZNAME:CET
DTSTART:20251026T010000
END:STANDARD
BEGIN:DAYLIGHT
TZOFFSETFROM:+0100
TZOFFSETTO:+0200
TZNAME:CEST
DTSTART:20260329T010000
END:DAYLIGHT
BEGIN:STANDARD
TZOFFSETFROM:+0200
TZOFFSETTO:+0100
TZNAME:CET
DTSTART:20261025T010000
END:STANDARD
BEGIN:DAYLIGHT
TZOFFSETFROM:+0100
TZOFFSETTO:+0200
TZNAME:CEST
DTSTART:20270328T010000
END:DAYLIGHT
BEGIN:STANDARD
TZOFFSETFROM:+0200
TZOFFSETTO:+0100
TZNAME:CET
DTSTART:20271031T010000
END:STANDARD
END:VTIMEZONE
BEGIN:VEVENT
DTSTART;VALUE=DATE:20260907
DTEND;VALUE=DATE:20260930
DTSTAMP:20260422T145334
CREATED:20260422T073149Z
LAST-MODIFIED:20260422T073149Z
UID:9238-1788739200-1790726399@danskedaginstitutioner.dk
SUMMARY:1½ dages supplerende arbejdsmiljøkursus for private institutioner – Fysisk indgriben og høje følelsesmæssige krav
DESCRIPTION:LDD laver i samarbejde med de øvrige paraplyorganisationer og BUPL årligt et supplerende arbejdsmiljøkursus for private institutioner. \nSidste år var der venteliste\, så tilmeld jer gerne hurtigt\, så I er sikret en plads. \nMålgruppe \nLedere\, tillidsrepræsentanter og arbejdsmiljørepræsentanter i private institutioner med overenskomst med LDD. \nVi opfordrer til\, at man deltager flere fra samme arbejdsplads. \nOBS: \nEt tilbud om supplerende arbejdsmiljøuddannelse/kursus er lovpligtigt og gives til medlemmer af arbejdsmiljøorganisationen (AMO).\nArbejdsgiveren skal tilbyde disse uddannelser/kurser\, og medlemmerne har ret til at deltage\, men ikke pligt.\nUddannelsen/kurset skal give AMO’s medlemmer viden og kompetencer\, der er relevante for arbejdsmiljøet i virksomheden.  \nIndhold \nPå dette års supplerende arbejdsmiljøkursus sætter vi fokus på fysisk indgriben og høje følelsesmæssige krav i arbejdet. I vil på kurset få mulighed for at erfaringsudveksle i grupper fordelt på jeres hverv (leder\, TR\, AMR) samt mulighed for at arbejde sammen i institutionsgrupper. \nPraktiske oplysninger \nKurset afvikles som internatkursus både øst og vest for Storebælt. \nDette på Hornstrup Kursuscenter i Vejle den 7.- 8. september 2026 \nTilmeldingslink: https://events.bupl.dk/fysiskindgribenoghjeflelsesmssigekravprivateFysiskIndgriben_FoelelsesMaessigKrav_Hornstrup \nSamt på Sørup Herregaard i Ringsted den 28.- 29. september 2026  \nTilmeldingslink:  https://events.bupl.dk/fysiskindgribenoghjeflelsesmssigekravprivate-2625/conference \nLæs mere om indhold og pris i vedhæftede filer. \nFysiskIndgriben_FoelelsesMaessigKrav_Hornstrup \nFysiskIndgriben_FoelelsesMaessigKrav_Soerup \n  \nHåber at vi ses på kurset 😊 \nBh. \nCharlotte \nMed venlig hilsen \nCharlotte Henriksen\nFaglig Pædagogisk Konsulent \nL A N D S O R G A N I S A T I O N E N\nD A N S K E   D A G I N S T I T U T I O N E R \nDirekte Telefon           +45 30534573\nE-mailadresse             CHE@LDD.DK\nAfdeling                     Hovedkontoret i Allerød \nHOVEDKONTORET\nLandsorganisationen Danske Daginstitutioner\nHejrevang 21 D\n3450 Allerød
URL:https://danskedaginstitutioner.dk/aktivitet/1%c2%bd-dages-supplerende-arbejdsmiljoekursus-for-private-institutioner-fysisk-indgriben-og-hoeje-foelelsesmaessige-krav/
CATEGORIES:Eksterne kurser og uddannelse
END:VEVENT
END:VCALENDAR